BEGIN:VCALENDAR
VERSION:2.0
PRODID:-//CKDH - ECPv4.6.26//NONSGML v1.0//EN
CALSCALE:GREGORIAN
METHOD:PUBLISH
X-WR-CALNAME:CKDH
X-ORIGINAL-URL:https://ckdh.com
X-WR-CALDESC:Events for CKDH
BEGIN:VEVENT
DTSTART;TZID=America/Halifax:20181128T173000
DTEND;TZID=America/Halifax:20181128T173000
DTSTAMP:20260424T060231
CREATED:20181115T162511Z
LAST-MODIFIED:20181115T162511Z
UID:5186-1543426200-1543426200@ckdh.com
SUMMARY:Light the Way
DESCRIPTION:The Cumberland Health Care Foundation and the annual Light The Way Campaign\, is looking to raise over $200\,000 for a diagnostic imaging C-Arm for the operating rooms at the Cumberland Regional Health Care Center.Light the Way is Wednesday Nov 28 starting at 5:30. There will be animated lights\, music\, children’s activities and a special visit from Santa and Mrs. Claus and Miltilda the Elf. There is no admission and parking will be free for the evening. You can make a donation any time of the year\, but with Light the Way your donation and tribute will be included in a book\, if received before Nov 23\, and your donation received before Dec 31 will be eligible for a 2018 tax receipt. \n
URL:https://ckdh.com/event/light-the-way-4/
END:VEVENT
END:VCALENDAR