BEGIN:VCALENDAR
VERSION:2.0
PRODID:-//CKDH - ECPv4.6.26//NONSGML v1.0//EN
CALSCALE:GREGORIAN
METHOD:PUBLISH
X-WR-CALNAME:CKDH
X-ORIGINAL-URL:https://ckdh.com
X-WR-CALDESC:Events for CKDH
BEGIN:VEVENT
DTSTART;TZID=America/Halifax:20181221T190000
DTEND;TZID=America/Halifax:20181221T190000
DTSTAMP:20260422T175110
CREATED:20181211T161130Z
LAST-MODIFIED:20181218T132512Z
UID:5326-1545418800-1545418800@ckdh.com
SUMMARY:Longest Night Service
DESCRIPTION:There will a Longest Night Service\, Friday Dec 21 at Christ Church Anglican. There will be a quiet candlelight service starting at 7\, for anyone who finds this time of year lonely or difficult. \n
URL:https://ckdh.com/event/longest-night-service/
END:VEVENT
END:VCALENDAR