BEGIN:VCALENDAR
VERSION:2.0
PRODID:-//CKDH - ECPv4.6.26//NONSGML v1.0//EN
CALSCALE:GREGORIAN
METHOD:PUBLISH
X-WR-CALNAME:CKDH
X-ORIGINAL-URL:https://ckdh.com
X-WR-CALDESC:Events for CKDH
BEGIN:VEVENT
DTSTART;TZID=America/Halifax:20190819T090000
DTEND;TZID=America/Halifax:20190822T160000
DTSTAMP:20260425T111554
CREATED:20190815T140406Z
LAST-MODIFIED:20190815T140406Z
UID:6503-1566205200-1566489600@ckdh.com
SUMMARY:Maggie's Place - Back to School Supplies
DESCRIPTION:Back to School Supplies are available for pick up this week at Maggie’s Place. \nMonday-Thursday 9-4 and Friday from 9-12. And in partnership with Cumberland Public Libraries\, filled backpacks are available for pick-up at library branches throughout Cumberland County\, except Amherst\, during regular hours this week. \n
URL:https://ckdh.com/event/maggies-place-back-to-school-supplies/
END:VEVENT
END:VCALENDAR