BEGIN:VCALENDAR
VERSION:2.0
PRODID:-//CKDH - ECPv4.6.26//NONSGML v1.0//EN
CALSCALE:GREGORIAN
METHOD:PUBLISH
X-WR-CALNAME:CKDH
X-ORIGINAL-URL:https://ckdh.com
X-WR-CALDESC:Events for CKDH
BEGIN:VEVENT
DTSTART;VALUE=DATE:20200316
DTEND;VALUE=DATE:20200317
DTSTAMP:20260423T111256
CREATED:20200311T132707Z
LAST-MODIFIED:20200316T112359Z
UID:7646-1584316800-1584403199@ckdh.com
SUMMARY:CANCELED March Break Media Camp
DESCRIPTION:The Sexual Health Center of Cumberland County is holding a March Break Media Camp at Amherst Regional High next Monday thru Thursday. It’s open to ages 11-14. There will be games\, filming\, puppet making\, TikToks\, media arts and social media content. Space is limited. Call 902-667-7500 or email youthengagementmatters@gmail.com. It cost $75 to register and sponsorships are available. \n
URL:https://ckdh.com/event/march-break-media-camp/
END:VEVENT
END:VCALENDAR