BEGIN:VCALENDAR
VERSION:2.0
PRODID:-//CKDH - ECPv4.6.26//NONSGML v1.0//EN
CALSCALE:GREGORIAN
METHOD:PUBLISH
X-WR-CALNAME:CKDH
X-ORIGINAL-URL:https://ckdh.com
X-WR-CALDESC:Events for CKDH
BEGIN:VEVENT
DTSTART;VALUE=DATE:20170726
DTEND;VALUE=DATE:20170730
DTSTAMP:20260424T092826
CREATED:20170713T164015Z
LAST-MODIFIED:20170713T164015Z
UID:1251-1501027200-1501372799@ckdh.com
SUMMARY:Maritime Music Fest
DESCRIPTION:The Maritime Music Fest\, honoring Anne Murray’s legacy and showcasing East Coast musicians\, is July 26-29 at the Dr Carson and Marion Murray Community Center in Springhill. There’s a dinner theatre\, “Anne of Springhill”\, a Songwriters Circle\, and closing concert\, and there will be a Meet and Greet with Anne at the Anne Murray Center. Tickets are on sale at the Anne Murray Center or call 902-597-8614. \n
URL:https://ckdh.com/event/maritime-music-fest/
END:VEVENT
END:VCALENDAR