BEGIN:VCALENDAR
VERSION:2.0
PRODID:-//CKDH - ECPv4.6.26//NONSGML v1.0//EN
CALSCALE:GREGORIAN
METHOD:PUBLISH
X-WR-CALNAME:CKDH
X-ORIGINAL-URL:https://ckdh.com
X-WR-CALDESC:Events for CKDH
BEGIN:VEVENT
DTSTART;TZID=America/Halifax:20190406T073000
DTEND;TZID=America/Halifax:20190406T103000
DTSTAMP:20260423T045612
CREATED:20190404T123228Z
LAST-MODIFIED:20190404T123229Z
UID:5859-1554535800-1554546600@ckdh.com
SUMMARY:Masonic Breakfast
DESCRIPTION:The Amherst Masons are serving breakfast Saturday morning from 7:30-10:30 at their temple on Lawrence Street. They will have eggs\, bacon or sausage\, hash browns and more. $7 for adults\, $4 for children under 12. \n  \n
URL:https://ckdh.com/event/masonic-breakfast-13/
END:VEVENT
END:VCALENDAR