BEGIN:VCALENDAR
VERSION:2.0
PRODID:-//CKDH - ECPv4.6.26//NONSGML v1.0//EN
CALSCALE:GREGORIAN
METHOD:PUBLISH
X-WR-CALNAME:CKDH
X-ORIGINAL-URL:https://ckdh.com
X-WR-CALDESC:Events for CKDH
BEGIN:VEVENT
DTSTART;TZID=UTC+0:20170729T073000
DTEND;TZID=UTC+0:20170729T223000
DTSTAMP:20260422T143308
CREATED:20170727T165013Z
LAST-MODIFIED:20170727T165013Z
UID:1291-1501313400-1501367400@ckdh.com
SUMMARY:Masonic Breakfast
DESCRIPTION:Amherst Masons are serving breakfast Saturday morning from 7:30-10:30 at the Masonic Temple on Lawrence Street. Eggs\, bacon or sausages and hash browns are on their menu. The cost is $6 for adults and $4 for children. \n
URL:https://ckdh.com/event/masonic-breakfast-4/
END:VEVENT
END:VCALENDAR