BEGIN:VCALENDAR
VERSION:2.0
PRODID:-//CKDH - ECPv4.6.26//NONSGML v1.0//EN
CALSCALE:GREGORIAN
METHOD:PUBLISH
X-WR-CALNAME:CKDH
X-ORIGINAL-URL:https://ckdh.com
X-WR-CALDESC:Events for CKDH
BEGIN:VEVENT
DTSTART;TZID=UTC+0:20170722T073000
DTEND;TZID=UTC+0:20170722T120000
DTSTAMP:20260423T164651
CREATED:20170717T181825Z
LAST-MODIFIED:20170717T181825Z
UID:1253-1500708600-1500724800@ckdh.com
SUMMARY:Massive Yard Sale
DESCRIPTION:There will be a Massive Yard Sale indoors at Wesley St. Mathews United Church in Pugwash. Sat July 22 from 7:30-noon. There will be many antiques and collectable items donated by the community and church families. Proceeds are to church upkeep. \n
URL:https://ckdh.com/event/massive-yard-sale/
END:VEVENT
END:VCALENDAR