BEGIN:VCALENDAR
VERSION:2.0
PRODID:-//CKDH - ECPv4.6.26//NONSGML v1.0//EN
CALSCALE:GREGORIAN
METHOD:PUBLISH
X-WR-CALNAME:CKDH
X-ORIGINAL-URL:https://ckdh.com
X-WR-CALDESC:Events for CKDH
BEGIN:VEVENT
DTSTART;TZID=America/Halifax:20190916T100000
DTEND;TZID=America/Halifax:20190916T103000
DTSTAMP:20260423T124359
CREATED:20190912T153814Z
LAST-MODIFIED:20190912T153814Z
UID:6625-1568628000-1568629800@ckdh.com
SUMMARY:Mock Disaster
DESCRIPTION:Centennial Villa will be holding a Mock Disaster Monday. Starting at 10. It’s an exercise so that staff will know how to get residents out of the building safely. It should last about half an hour. \n
URL:https://ckdh.com/event/mock-disaster/
END:VEVENT
END:VCALENDAR