BEGIN:VCALENDAR
VERSION:2.0
PRODID:-//CKDH - ECPv4.6.26//NONSGML v1.0//EN
CALSCALE:GREGORIAN
METHOD:PUBLISH
X-WR-CALNAME:CKDH
X-ORIGINAL-URL:https://ckdh.com
X-WR-CALDESC:Events for CKDH
BEGIN:VEVENT
DTSTART;TZID=America/Halifax:20190923T193000
DTEND;TZID=America/Halifax:20190923T193000
DTSTAMP:20260423T112401
CREATED:20190923T114814Z
LAST-MODIFIED:20190923T114814Z
UID:6686-1569267000-1569267000@ckdh.com
SUMMARY:Monday Night Card Party
DESCRIPTION:There’s a Card Party at the Fenwick Community Hall\, every Monday night at 7:30. They will have prizes\, a raffle and lunch. The cost is $3. \n
URL:https://ckdh.com/event/monday-night-card-party/
END:VEVENT
END:VCALENDAR