BEGIN:VCALENDAR
VERSION:2.0
PRODID:-//CKDH - ECPv4.6.26//NONSGML v1.0//EN
CALSCALE:GREGORIAN
METHOD:PUBLISH
X-WR-CALNAME:CKDH
X-ORIGINAL-URL:https://ckdh.com
X-WR-CALDESC:Events for CKDH
BEGIN:VEVENT
DTSTART;TZID=America/Halifax:20190511T080000
DTEND;TZID=America/Halifax:20190511T110000
DTSTAMP:20260423T110837
CREATED:20190507T100152Z
LAST-MODIFIED:20190507T100152Z
UID:6014-1557561600-1557572400@ckdh.com
SUMMARY:Mother's Day Pancake Breakfast
DESCRIPTION:The B.K. Believers Relay For Life Team is hosting a Mother’s day Pancake Breakfast\, Saturday from 8-11 at Spring St. Academy. The cost is $6\, with proceeds to Relay For Life. \n
URL:https://ckdh.com/event/mothers-day-pancake-breakfast/
END:VEVENT
END:VCALENDAR