BEGIN:VCALENDAR
VERSION:2.0
PRODID:-//CKDH - ECPv4.6.26//NONSGML v1.0//EN
CALSCALE:GREGORIAN
METHOD:PUBLISH
X-WR-CALNAME:CKDH
X-ORIGINAL-URL:https://ckdh.com
X-WR-CALDESC:Events for CKDH
BEGIN:VEVENT
DTSTART;TZID=America/Halifax:20190811T090000
DTEND;TZID=America/Halifax:20190811T090000
DTSTAMP:20260421T000623
CREATED:20190730T082632Z
LAST-MODIFIED:20190730T082632Z
UID:6408-1565514000-1565514000@ckdh.com
SUMMARY:Motorcycle Scavenger Hunt
DESCRIPTION:The Heritage Models Museum in River Hebert is holding a Motorcycle Scavenger Hunt\, Sunday Aug 11. Meet at the former Carquest building in Amherst Town Square\, between 9 and 10:30. You will receive the route and a list of items needed to complete the scavenger hunt. The cost is $10 per rider and $5 per passenger. There will be a BBQ at the museum and prize draws. For more information\, call the museum at 902-251-2442. All money raised will go for the upkeep of the Heritage Models Museum. \n
URL:https://ckdh.com/event/motorcycle-scavenger-hunt/
END:VEVENT
END:VCALENDAR