BEGIN:VCALENDAR
VERSION:2.0
PRODID:-//CKDH - ECPv4.6.26//NONSGML v1.0//EN
CALSCALE:GREGORIAN
METHOD:PUBLISH
X-WR-CALNAME:CKDH
X-ORIGINAL-URL:https://ckdh.com
X-WR-CALDESC:Events for CKDH
BEGIN:VEVENT
DTSTART;TZID=America/Halifax:20191018T180000
DTEND;TZID=America/Halifax:20191018T180000
DTSTAMP:20260422T030700
CREATED:20191010T152819Z
LAST-MODIFIED:20191010T152819Z
UID:6811-1571421600-1571421600@ckdh.com
SUMMARY:Movie Night - Spring Street Academy
DESCRIPTION:Spring Street Academy’s Movie Night is back Friday Oct 18. Doors open at 6 and the movie\, Toy Story 4 starts at 6:30. Children must be accompanied by a parent. Popcorn and refreshments will be available to purchase. Admission is a donation. \n
URL:https://ckdh.com/event/movie-night-spring-street-academy/
END:VEVENT
END:VCALENDAR