BEGIN:VCALENDAR
VERSION:2.0
PRODID:-//CKDH - ECPv4.6.26//NONSGML v1.0//EN
CALSCALE:GREGORIAN
METHOD:PUBLISH
X-WR-CALNAME:CKDH
X-ORIGINAL-URL:https://ckdh.com
X-WR-CALDESC:Events for CKDH
BEGIN:VEVENT
DTSTART;TZID=America/Halifax:20181114T190000
DTEND;TZID=America/Halifax:20181114T190000
DTSTAMP:20260422T085524
CREATED:20181031T160055Z
LAST-MODIFIED:20181031T160055Z
UID:5122-1542222000-1542222000@ckdh.com
SUMMARY:Movies at the Springhill Library
DESCRIPTION:It’s Classic Movie night at the Springhill Library Wed Nov 14. They will be showing the 1933 movie\, Dinner at Eight. The movie starts at 7. \nThe Springhill Library will be showing the after school movie\, Teen Titans Go  Thursday Nov 15  from 3-4:30. \n
URL:https://ckdh.com/event/movies-at-the-springhill-library/
END:VEVENT
END:VCALENDAR