BEGIN:VCALENDAR
VERSION:2.0
PRODID:-//CKDH - ECPv4.6.26//NONSGML v1.0//EN
CALSCALE:GREGORIAN
METHOD:PUBLISH
X-WR-CALNAME:CKDH
X-ORIGINAL-URL:https://ckdh.com
X-WR-CALDESC:Events for CKDH
BEGIN:VEVENT
DTSTART;TZID=America/Halifax:20190518T080000
DTEND;TZID=America/Halifax:20190518T160000
DTSTAMP:20260422T210049
CREATED:20190514T081017Z
LAST-MODIFIED:20190514T081017Z
UID:6039-1558166400-1558195200@ckdh.com
SUMMARY:Museum Plant Sale
DESCRIPTION:The Cumberland County Museum is holding it’s Annual Plant Sale\, Saturday from 8-4\, at the Museum. If you would like to donate plants\, just drop them off at the museum. This fundraiser raises money for the upkeep of the museum gardens \n
URL:https://ckdh.com/event/museum-plant-sale/
END:VEVENT
END:VCALENDAR