BEGIN:VCALENDAR
VERSION:2.0
PRODID:-//CKDH - ECPv4.6.26//NONSGML v1.0//EN
CALSCALE:GREGORIAN
METHOD:PUBLISH
X-WR-CALNAME:CKDH
X-ORIGINAL-URL:https://ckdh.com
X-WR-CALDESC:Events for CKDH
BEGIN:VEVENT
DTSTART;TZID=America/Halifax:20190803T110000
DTEND;TZID=America/Halifax:20190803T150000
DTSTAMP:20260422T103820
CREATED:20190730T152644Z
LAST-MODIFIED:20190730T152644Z
UID:6410-1564830000-1564844400@ckdh.com
SUMMARY:Music at the Mall
DESCRIPTION:There’s Music at the Mall Saturday at the Amherst Center. Dan McLean will be playing from 11-1 at the Artisans Market and Café. Join R.A. and Friend from 1-3. As always there will be a cash draw and door prizes. And there is great food with Caribbean\, Korean and traditional cuisine at the Café. \n
URL:https://ckdh.com/event/music-at-the-mall-14/
END:VEVENT
END:VCALENDAR