BEGIN:VCALENDAR
VERSION:2.0
PRODID:-//CKDH - ECPv4.6.26//NONSGML v1.0//EN
CALSCALE:GREGORIAN
METHOD:PUBLISH
X-WR-CALNAME:CKDH
X-ORIGINAL-URL:https://ckdh.com
X-WR-CALDESC:Events for CKDH
BEGIN:VEVENT
DTSTART;TZID=America/Halifax:20190907T110000
DTEND;TZID=America/Halifax:20190907T150000
DTSTAMP:20260424T112445
CREATED:20190903T155350Z
LAST-MODIFIED:20190903T155350Z
UID:6574-1567854000-1567868400@ckdh.com
SUMMARY:Music at the Mall
DESCRIPTION:There’s Music at the Mall Saturday at the Amherst Center. R.A. and Jack will be playing at the Market and Café from 11-1. Ray Legere and Frank Doody are on from 1-3. As always there will be a cash draw and door prizes. And there’s great foo with Caribbean\, Korean and traditional cuisine at the Café. \n  \n
URL:https://ckdh.com/event/music-at-the-mall-18/
END:VEVENT
END:VCALENDAR