BEGIN:VCALENDAR
VERSION:2.0
PRODID:-//CKDH - ECPv4.6.26//NONSGML v1.0//EN
CALSCALE:GREGORIAN
METHOD:PUBLISH
X-WR-CALNAME:CKDH
X-ORIGINAL-URL:https://ckdh.com
X-WR-CALDESC:Events for CKDH
BEGIN:VEVENT
DTSTART;TZID=America/Halifax:20190402T110000
DTEND;TZID=America/Halifax:20190402T130000
DTSTAMP:20260419T133327
CREATED:20190402T145155Z
LAST-MODIFIED:20190402T145155Z
UID:5835-1554202800-1554210000@ckdh.com
SUMMARY:Music at the Mall
DESCRIPTION:There’s Music at the Mall at the Amherst Center this Saturday. Julie Lavers will be performing at the Amherst Artisans market from 11-1. You can always get a great breakfast at the Amherst Market Café. The Grand Opening of the refreshed café with a strong international menu is coming in the near future\, as development challenges are resolved. \n
URL:https://ckdh.com/event/music-at-the-mall-2/
END:VEVENT
END:VCALENDAR