BEGIN:VCALENDAR
VERSION:2.0
PRODID:-//CKDH - ECPv4.6.26//NONSGML v1.0//EN
CALSCALE:GREGORIAN
METHOD:PUBLISH
X-WR-CALNAME:CKDH
X-ORIGINAL-URL:https://ckdh.com
X-WR-CALDESC:Events for CKDH
BEGIN:VEVENT
DTSTART;TZID=America/Halifax:20191019T130000
DTEND;TZID=America/Halifax:20191019T150000
DTSTAMP:20260422T103858
CREATED:20191015T145027Z
LAST-MODIFIED:20191018T111602Z
UID:6822-1571490000-1571497200@ckdh.com
SUMMARY:Music at the Mall
DESCRIPTION:There’s Music at the Mall Saturday at the Amherst Center. Join John Gabriel for Celtic and Spanish music from 9-1 at the Artisans Gallery. Then Bus 41 plays  from 1-3. As always\, there will be a cash draw and door prizes. This weekend  Art Across the Marsh is on\, and you’re invited to visit one of the participants\, the Amherst Artisans Gallery 10-5 at the Amherst Center. Ask about the 2nd Annual Collins Christmas Craft Village\, beginning Nov 15. And there’s great food\, with Caribbean\, Korean and traditional cuisine at the Café. \nSunday Michelle LeBlanc plays from 11-1 at the Artisan Gallery. The Gallery is open 10-5for the 2nd day of Art Across the Marsh. \n  \n
URL:https://ckdh.com/event/music-at-the-mall-24/
END:VEVENT
END:VCALENDAR