BEGIN:VCALENDAR
VERSION:2.0
PRODID:-//CKDH - ECPv4.6.26//NONSGML v1.0//EN
CALSCALE:GREGORIAN
METHOD:PUBLISH
X-WR-CALNAME:CKDH
X-ORIGINAL-URL:https://ckdh.com
X-WR-CALDESC:Events for CKDH
BEGIN:VEVENT
DTSTART;TZID=America/Halifax:20191102T090000
DTEND;TZID=America/Halifax:20191102T150000
DTSTAMP:20260421T114413
CREATED:20191101T111423Z
LAST-MODIFIED:20191101T111423Z
UID:6934-1572685200-1572706800@ckdh.com
SUMMARY:Music at the Mall
DESCRIPTION:There’s Music at the Mall Saturday at the Amherst Center. It’s a drop in day. You never know who will be playing from 9-1 at the Artisans Gallery. Then Boonie Buddies play from 1-3. As always\, there will be a cash draw and door prizes.. Ask about the 2nd Annual Collins Christmas Craft Village\, beginning Nov 15. And there’s always great food\, with Caribbean\, Korean and traditional cuisine at the Café. \n
URL:https://ckdh.com/event/music-at-the-mall-25/
END:VEVENT
END:VCALENDAR