BEGIN:VCALENDAR
VERSION:2.0
PRODID:-//CKDH - ECPv4.6.26//NONSGML v1.0//EN
CALSCALE:GREGORIAN
METHOD:PUBLISH
X-WR-CALNAME:CKDH
X-ORIGINAL-URL:https://ckdh.com
X-WR-CALDESC:Events for CKDH
BEGIN:VEVENT
DTSTART;VALUE=DATE:20190413
DTEND;VALUE=DATE:20190414
DTSTAMP:20260421T113510
CREATED:20190408T152401Z
LAST-MODIFIED:20190408T152401Z
UID:5880-1555113600-1555199999@ckdh.com
SUMMARY:Music at the Mall
DESCRIPTION:There’s Music at the Mall at the Amherst Center this Saturday. Jerry Metz\, Brain Davis and Jim Steele will be performing at the Amherst Artisans market from 11-1. At the Market Café Ray Legere and Frank Doody will be playing from 1-3. You can always get a great breakfast at the Amherst Market Café. The Grand Opening of the refreshed café with a strong international menu is coming in the near future. \n  \n
URL:https://ckdh.com/event/music-at-the-mall-3/
END:VEVENT
END:VCALENDAR