BEGIN:VCALENDAR
VERSION:2.0
PRODID:-//CKDH - ECPv4.6.26//NONSGML v1.0//EN
CALSCALE:GREGORIAN
METHOD:PUBLISH
X-WR-CALNAME:CKDH
X-ORIGINAL-URL:https://ckdh.com
X-WR-CALDESC:Events for CKDH
BEGIN:VEVENT
DTSTART;TZID=America/Halifax:20190509T193000
DTEND;TZID=America/Halifax:20190509T193000
DTSTAMP:20260422T133043
CREATED:20190502T142826Z
LAST-MODIFIED:20190502T142826Z
UID:5998-1557430200-1557430200@ckdh.com
SUMMARY:Music at Trinity presents Rawlins Cross
DESCRIPTION:Music at Trinity presents Rawlins Cross in concert\, at Trinity St Stephens\, Thursday May 9 at 7:30. Tickets advance $35 until May 8th at 4. Tickets will be $40 at the door. Tickets at the Church Office\, or call (902)667-8483\, 9-4. Visa and MasterCard accepted. \n  \n
URL:https://ckdh.com/event/music-at-trinity-presents-rawlins-cross/
END:VEVENT
END:VCALENDAR