BEGIN:VCALENDAR
VERSION:2.0
PRODID:-//CKDH - ECPv4.6.26//NONSGML v1.0//EN
CALSCALE:GREGORIAN
METHOD:PUBLISH
X-WR-CALNAME:CKDH
X-ORIGINAL-URL:https://ckdh.com
X-WR-CALDESC:Events for CKDH
BEGIN:VEVENT
DTSTART;TZID=America/Halifax:20190929T193000
DTEND;TZID=America/Halifax:20190929T193000
DTSTAMP:20260422T181411
CREATED:20190924T154913Z
LAST-MODIFIED:20190924T154913Z
UID:6703-1569785400-1569785400@ckdh.com
SUMMARY:Music at Trinity
DESCRIPTION:Music at Trinity presents the windwood quintet Ventus Machina\,with guest soprano Monette Gould\, Sunday at 7:30 at Trinity St Stephens United Church. Tickets are $20 for adults. Children between 7 aqnd 18 accompanied by an adult ticket holder\, are admitted free\, Tickets are available at the door\, or use your credit card and call the church office at 902-667-8483 weekdays 9-4. \n
URL:https://ckdh.com/event/music-at-trinity/
END:VEVENT
END:VCALENDAR