BEGIN:VCALENDAR
VERSION:2.0
PRODID:-//CKDH - ECPv4.6.26//NONSGML v1.0//EN
CALSCALE:GREGORIAN
METHOD:PUBLISH
X-WR-CALNAME:CKDH
X-ORIGINAL-URL:https://ckdh.com
X-WR-CALDESC:Events for CKDH
BEGIN:VEVENT
DTSTART;TZID=UTC+0:20170419T190000
DTEND;TZID=UTC+0:20170419T190000
DTSTAMP:20260421T103400
CREATED:20170403T183946Z
LAST-MODIFIED:20170403T183946Z
UID:511-1492628400-1492628400@ckdh.com
SUMMARY:National Canadian Film Day 150 - Barney’s Version
DESCRIPTION:Wednesday April 19th is National Canadian Film Day 150. It will be the largest film festival\, with over 1700 events from coast to coast. The Springhill Library will be participating\, with a showing of Barney’s Version\, with Dustin Hoffman\, Minnie Driver and Paul Giamatti. The show starts at 7. \n
URL:https://ckdh.com/event/national-canadian-film-day-150-barneys-version/
END:VEVENT
END:VCALENDAR