BEGIN:VCALENDAR
VERSION:2.0
PRODID:-//CKDH - ECPv4.6.26//NONSGML v1.0//EN
CALSCALE:GREGORIAN
METHOD:PUBLISH
X-WR-CALNAME:CKDH
X-ORIGINAL-URL:https://ckdh.com
X-WR-CALDESC:Events for CKDH
BEGIN:VEVENT
DTSTART;TZID=America/Halifax:20180908T100000
DTEND;TZID=America/Halifax:20180908T150000
DTSTAMP:20260421T134015
CREATED:20180829T130243Z
LAST-MODIFIED:20180829T130243Z
UID:4834-1536400800-1536418800@ckdh.com
SUMMARY:North Shore Antique Tractor & Engine Club Annual Field Day
DESCRIPTION:The North Shore Antique Tractor & Engine Club will hold their Annual Field Day on Saturday Sept. 8 from 10 to 3\, at the intersection of highway 6 and the Thompson Road about 6 km. east of Pugwash. Antique Tractors & Machinery will be on display and you can take your piece of Antique Equipment and show it off. There will be demonstrations of Grain Threshing\, Hay Pressing\, Hand Mowing and antique engines. There will also be a Ploughing match\, bring your plough and test your skills. There will be fun for the whole family\, with Thomas the Tank Engine Rides\, Wagon Rides\, Flea Market\, Live Music\, and a 4H canteen. Admission is free\, but donations gratefully accepted. \n
URL:https://ckdh.com/event/north-shore-antique-tractor-engine-club-annual-field-day/
END:VEVENT
END:VCALENDAR