BEGIN:VCALENDAR
VERSION:2.0
PRODID:-//CKDH - ECPv4.6.26//NONSGML v1.0//EN
CALSCALE:GREGORIAN
METHOD:PUBLISH
X-WR-CALNAME:CKDH
X-ORIGINAL-URL:https://ckdh.com
X-WR-CALDESC:Events for CKDH
BEGIN:VEVENT
DTSTART;TZID=America/Halifax:20191017T090000
DTEND;TZID=America/Halifax:20191017T190000
DTSTAMP:20260422T154049
CREATED:20191007T154732Z
LAST-MODIFIED:20191010T152226Z
UID:6793-1571302800-1571338800@ckdh.com
SUMMARY:NSCC - Open House
DESCRIPTION:NSCC is holding an Open House Thursday Oct 17 from 9-7. Explore the Amherst and Springhill campuses\, meet the faculty and students and find out about the many courses offered in Cumberland County. There will be interactive classroom activities from 9-3.  From 4:30-7\, at the Amherst campus\, there will be a Fuel Your Success event\, where you’ll learn to Fuel your Drive\, Mind and Body. Ask about scholarships. 800+ scholarships and bursaries are available. NSCC Open House Oct 17. \n
URL:https://ckdh.com/event/nscc-open-house/
END:VEVENT
END:VCALENDAR