BEGIN:VCALENDAR
VERSION:2.0
PRODID:-//CKDH - ECPv4.6.26//NONSGML v1.0//EN
CALSCALE:GREGORIAN
METHOD:PUBLISH
X-WR-CALNAME:CKDH
X-ORIGINAL-URL:https://ckdh.com
X-WR-CALDESC:Events for CKDH
BEGIN:VEVENT
DTSTART;VALUE=DATE:20190713
DTEND;VALUE=DATE:20190714
DTSTAMP:20260420T072033
CREATED:20190709T124855Z
LAST-MODIFIED:20190709T124855Z
UID:6326-1562976000-1563062399@ckdh.com
SUMMARY:Old Home Week - Parrsboro
DESCRIPTION:Old Home Week is on in Parrsboro. \nToday’s events: \nSaturday\, July 13\nFair opens 6:30\nEntertainment from 8-10 pm:\nAndy LeBlanc and The Edge \nMoney Doll\, seafood\, and television draws at 10:15 pm.\nOther draws\, announcements. \n  \n
URL:https://ckdh.com/event/old-home-week-parrsboro-4/
END:VEVENT
END:VCALENDAR