BEGIN:VCALENDAR
VERSION:2.0
PRODID:-//CKDH - ECPv4.6.26//NONSGML v1.0//EN
CALSCALE:GREGORIAN
METHOD:PUBLISH
X-WR-CALNAME:CKDH
X-ORIGINAL-URL:https://ckdh.com
X-WR-CALDESC:Events for CKDH
BEGIN:VEVENT
DTSTART;VALUE=DATE:20190723
DTEND;VALUE=DATE:20190724
DTSTAMP:20260421T151356
CREATED:20190722T154802Z
LAST-MODIFIED:20190722T160340Z
UID:6365-1563840000-1563926399@ckdh.com
SUMMARY:Old Home Week - Springhill
DESCRIPTION:It’s Old Home Week in Springhill \nThere’s a Youth Glow Dance for grades P-6 Tuesday from 6:30-8:30 in the CIBC Room at the Dr. Carson and Marion Murray Community Center \nWednesday there’s an All Ages Pickleball Tournament from 8:30-11:30 at the Richard Calder Arena. It’s free to participate and you register on site. \nThe Scoop Ice Cream Emporium is holding an Ice Cream Social from 6-8. Admission is free and Chelsea Atkinson will be entertaining. \nThursday there’s an Outdoor Concert from 6-8 at Lions Park Natural Playground\, featuring Chelsea Atkinson\, Dylan Porter\, Chris Brown\, Brenna Casey and more \nSaturday\, 1-3\, Touch a Truck in the upper parking lot at the Dr Carson and Marion Murray Community Center\, \nAnd the Grand Opening of the Pit Pond Trail is from 2-4\, with live music\, a bouncy castle\, face painting and a BBQ. \n  \n  \n  \n
URL:https://ckdh.com/event/old-home-week-springhill/
END:VEVENT
END:VCALENDAR