BEGIN:VCALENDAR
VERSION:2.0
PRODID:-//CKDH - ECPv4.6.26//NONSGML v1.0//EN
CALSCALE:GREGORIAN
METHOD:PUBLISH
X-WR-CALNAME:CKDH
X-ORIGINAL-URL:https://ckdh.com
X-WR-CALDESC:Events for CKDH
BEGIN:VEVENT
DTSTART;VALUE=DATE:20191001
DTEND;VALUE=DATE:20191002
DTSTAMP:20260423T010852
CREATED:20190923T114628Z
LAST-MODIFIED:20190923T114628Z
UID:6682-1569888000-1569974399@ckdh.com
SUMMARY:One on One Technology Sessions
DESCRIPTION:The Springhill Library will be offering One on One Technology Sessions\, Tuuesday’s for the month of October. Do you have a device that you have questions about? Book a FREE 50 minute one-on-one session with staff to help with any issues you may be having with your personal device. Call 902-597-2211 to reserve your appointment \n
URL:https://ckdh.com/event/one-on-one-technology-sessions-2/
END:VEVENT
END:VCALENDAR