BEGIN:VCALENDAR
VERSION:2.0
PRODID:-//CKDH - ECPv4.6.26//NONSGML v1.0//EN
CALSCALE:GREGORIAN
METHOD:PUBLISH
X-WR-CALNAME:CKDH
X-ORIGINAL-URL:https://ckdh.com
X-WR-CALDESC:Events for CKDH
BEGIN:VEVENT
DTSTART;TZID=America/Halifax:20181101T100000
DTEND;TZID=America/Halifax:20181101T140000
DTSTAMP:20260423T110300
CREATED:20181031T155456Z
LAST-MODIFIED:20181031T155456Z
UID:5116-1541066400-1541080800@ckdh.com
SUMMARY:Open House
DESCRIPTION:November is Canada Career Month. To kick off the month\, the Nova Scotia Works Center (CANSA)\, will be holding an open house Thursday from 10-2\, Find out about the variety of services they provide and enjoy some refreshments. \n
URL:https://ckdh.com/event/open-house-2/
END:VEVENT
END:VCALENDAR