BEGIN:VCALENDAR
VERSION:2.0
PRODID:-//CKDH - ECPv4.6.26//NONSGML v1.0//EN
CALSCALE:GREGORIAN
METHOD:PUBLISH
X-WR-CALNAME:CKDH
X-ORIGINAL-URL:https://ckdh.com
X-WR-CALDESC:Events for CKDH
BEGIN:VEVENT
DTSTART;TZID=America/Halifax:20191018T180000
DTEND;TZID=America/Halifax:20191018T210000
DTSTAMP:20260422T014637
CREATED:20191010T152311Z
LAST-MODIFIED:20191010T152311Z
UID:6803-1571421600-1571432400@ckdh.com
SUMMARY:Open House Tours
DESCRIPTION:Amherst Area Heritage Trust in conjunction with the Fibre Arts Festival invites yoou to 2 Open House Tours\, Wednesday Oct 18 from 6-9. Check out the Rhodes Manor at the corner of Havelock and Robie Streets and the 2 Barkers Mansion at 6 Regent Street. Admission is $5 at the door. Proceeds support the work of Amherst Area Heritage Trust\, to preserve\, protect and promote Amherst’s unique heritage buildings. \n
URL:https://ckdh.com/event/open-house-tours/
END:VEVENT
END:VCALENDAR