BEGIN:VCALENDAR
VERSION:2.0
PRODID:-//CKDH - ECPv4.6.26//NONSGML v1.0//EN
CALSCALE:GREGORIAN
METHOD:PUBLISH
X-WR-CALNAME:CKDH
X-ORIGINAL-URL:https://ckdh.com
X-WR-CALDESC:Events for CKDH
BEGIN:VEVENT
DTSTART;VALUE=DATE:20170211
DTEND;VALUE=DATE:20170212
DTSTAMP:20260424T142657
CREATED:20170216T000634Z
LAST-MODIFIED:20170216T000634Z
UID:144-1486771200-1486857599@ckdh.com
SUMMARY:Open Mic
DESCRIPTION:The RCAF Association have an Open Mic at their club Sat Feb 11 starting at 3. For more information call 902-667-9262. \n
URL:https://ckdh.com/event/open-mic/
END:VEVENT
END:VCALENDAR