BEGIN:VCALENDAR
VERSION:2.0
PRODID:-//CKDH - ECPv4.6.26//NONSGML v1.0//EN
CALSCALE:GREGORIAN
METHOD:PUBLISH
X-WR-CALNAME:CKDH
X-ORIGINAL-URL:https://ckdh.com
X-WR-CALDESC:Events for CKDH
BEGIN:VEVENT
DTSTART;TZID=America/Halifax:20190401T183000
DTEND;TZID=America/Halifax:20190401T183000
DTSTAMP:20260422T142320
CREATED:20190326T142104Z
LAST-MODIFIED:20190326T142104Z
UID:5781-1554143400-1554143400@ckdh.com
SUMMARY:Outdoor Pursuits - Outdoor Activity Group
DESCRIPTION:Outdoor Pursuits is an outdoor activity group\, for adults who enjoy nature\, people and activities. Walking\, hiking\, biking\, snow shoeing\, cross country skiing and more are some of their pursuits. They have a meeting Monday Apr 1 at 6:30 in meeting room 1 at the Amherst Stadium. You are welcome to join them. For more information call Doreen at 902-397-3199 or email woodenelement@gmail.com \n
URL:https://ckdh.com/event/outdoor-pursuits-outdoor-activity-group/
END:VEVENT
END:VCALENDAR