BEGIN:VCALENDAR
VERSION:2.0
PRODID:-//CKDH - ECPv4.6.26//NONSGML v1.0//EN
CALSCALE:GREGORIAN
METHOD:PUBLISH
X-WR-CALNAME:CKDH
X-ORIGINAL-URL:https://ckdh.com
X-WR-CALDESC:Events for CKDH
BEGIN:VEVENT
DTSTART;TZID=America/Halifax:20180609T090000
DTEND;TZID=America/Halifax:20180609T120000
DTSTAMP:20260421T120233
CREATED:20180604T160912Z
LAST-MODIFIED:20180604T160912Z
UID:2111-1528534800-1528545600@ckdh.com
SUMMARY:Oxford Community Garden
DESCRIPTION:If you would like to know more about the Oxford Community Garden\, there is a Community Garden Kickoff Sat June 9 from 9-noon at the Oxford Lions Center. There will be displays and information on planting and gardening and a BBQ. For more information\, call 902-447-2798. \n
URL:https://ckdh.com/event/oxford-community-garden/
END:VEVENT
END:VCALENDAR