BEGIN:VCALENDAR
VERSION:2.0
PRODID:-//CKDH - ECPv4.6.26//NONSGML v1.0//EN
CALSCALE:GREGORIAN
METHOD:PUBLISH
X-WR-CALNAME:CKDH
X-ORIGINAL-URL:https://ckdh.com
X-WR-CALDESC:Events for CKDH
BEGIN:VEVENT
DTSTART;TZID=UTC+0:20171120T190000
DTEND;TZID=UTC+0:20171120T190000
DTSTAMP:20260422T105748
CREATED:20171114T191515Z
LAST-MODIFIED:20171114T191515Z
UID:1779-1511204400-1511204400@ckdh.com
SUMMARY:Paint Night
DESCRIPTION:The JV Boys Basketball team is holding a Paint Night\, “ A Winter Barn” with Arlene Collins\, Monday Nov 20 at 7 at the Artisans Gallery at the Amherst Center. Tickets are $40 from team members. \n
URL:https://ckdh.com/event/paint-night/
END:VEVENT
END:VCALENDAR