BEGIN:VCALENDAR
VERSION:2.0
PRODID:-//CKDH - ECPv4.6.26//NONSGML v1.0//EN
CALSCALE:GREGORIAN
METHOD:PUBLISH
X-WR-CALNAME:CKDH
X-ORIGINAL-URL:https://ckdh.com
X-WR-CALDESC:Events for CKDH
BEGIN:VEVENT
DTSTART;TZID=America/Halifax:20180910T090000
DTEND;TZID=America/Halifax:20180910T110000
DTSTAMP:20260421T191556
CREATED:20180910T153154Z
LAST-MODIFIED:20180910T153154Z
UID:4915-1536570000-1536577200@ckdh.com
SUMMARY:Pancake Breakfast
DESCRIPTION:There’s Pancake Breakfast at the Minudie Hall Saturday from 9-11. They will be serving pancakes\, sausages and eggs. The cost is $6 per person. Proceeds to the Minudie Hall. \n  \n
URL:https://ckdh.com/event/pancake-breakfast/
END:VEVENT
END:VCALENDAR