BEGIN:VCALENDAR
VERSION:2.0
PRODID:-//CKDH - ECPv4.6.26//NONSGML v1.0//EN
CALSCALE:GREGORIAN
METHOD:PUBLISH
X-WR-CALNAME:CKDH
X-ORIGINAL-URL:https://ckdh.com
X-WR-CALDESC:Events for CKDH
BEGIN:VEVENT
DTSTART;VALUE=DATE:20191025
DTEND;VALUE=DATE:20191028
DTSTAMP:20260421T151622
CREATED:20191017T155202Z
LAST-MODIFIED:20191017T155202Z
UID:6866-1571961600-1572220799@ckdh.com
SUMMARY:Parrsboro Film Festival
DESCRIPTION:The 9th Annual Parrsboro Film Festival is Friday thru Sunday Oct 25-27. The Gala Night is Friday. The winners of the short film competition will be announced Saturday night. There will be films and speakers throughout the Festival. To get more information or to purchase festival passes go to parrsborofilmfestival.com. \n
URL:https://ckdh.com/event/parrsboro-film-festival/
END:VEVENT
END:VCALENDAR