BEGIN:VCALENDAR
VERSION:2.0
PRODID:-//CKDH - ECPv4.6.26//NONSGML v1.0//EN
CALSCALE:GREGORIAN
METHOD:PUBLISH
X-WR-CALNAME:CKDH
X-ORIGINAL-URL:https://ckdh.com
X-WR-CALDESC:Events for CKDH
BEGIN:VEVENT
DTSTART;TZID=UTC+0:20171203T183000
DTEND;TZID=UTC+0:20171203T183000
DTSTAMP:20260423T145024
CREATED:20171120T193644Z
LAST-MODIFIED:20171120T193644Z
UID:1834-1512325800-1512325800@ckdh.com
SUMMARY:Patriquin Family and Friends Christmas Concert
DESCRIPTION:The Patriquin Family and Friends Christmas Concert\, is Sunday Dec 3 at 6:30 at the Dr. Carson and Marion Murray Community Center in Springhill. Tickets are on sale now at the Community Center box office. $7 in advance\, $10 at the door\, and children under 12 are free. Tickets are also available from Leah Killen at 902-597-8252. \n
URL:https://ckdh.com/event/patriquin-family-and-friends-christmas-concert/
END:VEVENT
END:VCALENDAR