BEGIN:VCALENDAR
VERSION:2.0
PRODID:-//CKDH - ECPv4.6.26//NONSGML v1.0//EN
CALSCALE:GREGORIAN
METHOD:PUBLISH
X-WR-CALNAME:CKDH
X-ORIGINAL-URL:https://ckdh.com
X-WR-CALDESC:Events for CKDH
BEGIN:VEVENT
DTSTART;TZID=UTC+0:20170905T190000
DTEND;TZID=UTC+0:20170905T190000
DTSTAMP:20260423T202635
CREATED:20170901T161423Z
LAST-MODIFIED:20170901T161423Z
UID:1434-1504638000-1504638000@ckdh.com
SUMMARY:Pic and Grin - Maggie's Place
DESCRIPTION:The Pic and Grin Family continues their summer music fundraisers Monday  at 7 at Winegarden Estates in Baie Verte. This week proceeds will be going to Maggie’s Place. \n
URL:https://ckdh.com/event/pic-and-grin-maggies-place/
END:VEVENT
END:VCALENDAR