BEGIN:VCALENDAR
VERSION:2.0
PRODID:-//CKDH - ECPv4.6.26//NONSGML v1.0//EN
CALSCALE:GREGORIAN
METHOD:PUBLISH
X-WR-CALNAME:CKDH
X-ORIGINAL-URL:https://ckdh.com
X-WR-CALDESC:Events for CKDH
BEGIN:VEVENT
DTSTART;TZID=America/Halifax:20180606T183000
DTEND;TZID=America/Halifax:20180606T200000
DTSTAMP:20260425T124754
CREATED:20180604T152351Z
LAST-MODIFIED:20180604T152351Z
UID:2097-1528309800-1528315200@ckdh.com
SUMMARY:Pickleball Open House for Adults
DESCRIPTION:There’s a free Pickleball Open House for Adults Wed from 10-11:30 and 6:30-8 at the Dr. Carson and Marion Murray Community Center. All equipment is supplied and experienced pickleballers will be on hand to help you. \n
URL:https://ckdh.com/event/pickleball-open-house-for-adults/
END:VEVENT
END:VCALENDAR