BEGIN:VCALENDAR
VERSION:2.0
PRODID:-//CKDH - ECPv4.6.26//NONSGML v1.0//EN
CALSCALE:GREGORIAN
METHOD:PUBLISH
X-WR-CALNAME:CKDH
X-ORIGINAL-URL:https://ckdh.com
X-WR-CALDESC:Events for CKDH
BEGIN:VEVENT
DTSTART;VALUE=DATE:20171208
DTEND;VALUE=DATE:20171209
DTSTAMP:20260420T000640
CREATED:20171207T135751Z
LAST-MODIFIED:20171207T135751Z
UID:1905-1512691200-1512777599@ckdh.com
SUMMARY:Provincial Championships Coordinators
DESCRIPTION:The Amherst Curling Club will be hosting this season’s Provincial Championships and we need a few Coordinators for the event from February 15th to 19th\, 2018. The coordinator for each activity is not expected to perform all the functions themselves\, but work with a team of other volunteers. A copy of the file explaining the various coordinators\, positions and tasks for a successful event\, is available at the Curling Club . If you would like to help out\, contact Peter Rushton as soon as possible\, 902-664-7383 or pkrushton@bellaliant.net \n
URL:https://ckdh.com/event/provincial-championships-coordinators/
END:VEVENT
END:VCALENDAR