BEGIN:VCALENDAR
VERSION:2.0
PRODID:-//CKDH - ECPv4.6.26//NONSGML v1.0//EN
CALSCALE:GREGORIAN
METHOD:PUBLISH
X-WR-CALNAME:CKDH
X-ORIGINAL-URL:https://ckdh.com
X-WR-CALDESC:Events for CKDH
BEGIN:VEVENT
DTSTART;TZID=UTC+0:20170819T063000
DTEND;TZID=UTC+0:20170820T120000
DTSTAMP:20260424T133636
CREATED:20170808T181709Z
LAST-MODIFIED:20170808T181709Z
UID:1335-1503124200-1503230400@ckdh.com
SUMMARY:Pugwash Fire Department’s Mackerel Fishing Tournament
DESCRIPTION:The Pugwash Fire Department’s Mackerel Fishing Tournament is Sat and Sun Aug 19 and 20. There are cash prizes for the 4th biggest fish\, including $500 for first place. There will also be prize draws following the final weigh ins Saturday and Sunday in Eaton park. And a BBQ Sat from 2-4.Register at the fire station between 6:30 and noon both days. It’s $25 for both days or $20 for one day. For more information\, call Ron Betts at 902-664-6732. \n
URL:https://ckdh.com/event/pugwash-fire-departments-mackerel-fishing-tournament/
END:VEVENT
END:VCALENDAR