BEGIN:VCALENDAR
VERSION:2.0
PRODID:-//CKDH - ECPv4.6.26//NONSGML v1.0//EN
CALSCALE:GREGORIAN
METHOD:PUBLISH
X-WR-CALNAME:CKDH
X-ORIGINAL-URL:https://ckdh.com
X-WR-CALDESC:Events for CKDH
BEGIN:VEVENT
DTSTART;TZID=UTC+0:20170523T100000
DTEND;TZID=UTC+0:20170523T130000
DTSTAMP:20260424T111521
CREATED:20170502T192638Z
LAST-MODIFIED:20170502T192638Z
UID:795-1495533600-1495544400@ckdh.com
SUMMARY:Puppet Shows
DESCRIPTION:The Springhill Library is holding Puppet Shows Tue May 23 for 2-5 year olds. Shows will be at 10:15 and 1. For more information call 902-597-2211. \n
URL:https://ckdh.com/event/puppet-shows/
END:VEVENT
END:VCALENDAR