BEGIN:VCALENDAR
VERSION:2.0
PRODID:-//CKDH - ECPv4.6.26//NONSGML v1.0//EN
CALSCALE:GREGORIAN
METHOD:PUBLISH
X-WR-CALNAME:CKDH
X-ORIGINAL-URL:https://ckdh.com
X-WR-CALDESC:Events for CKDH
BEGIN:VEVENT
DTSTART;TZID=America/Halifax:20190525T090000
DTEND;TZID=America/Halifax:20190525T120000
DTSTAMP:20260424T112109
CREATED:20190523T114354Z
LAST-MODIFIED:20190523T114354Z
UID:6113-1558774800-1558785600@ckdh.com
SUMMARY:Relay Yard Sale
DESCRIPTION:The Cluckers Relay for Life Team is holding a Yard Sale Saturday from 9-noon on Boomer Loop in West Amherst. They will have baked goods\, crafts\, some furniture and more. Proceeds to Relay For Life\, Sat June 8 6-midnight at the Amherst Stadium. \n
URL:https://ckdh.com/event/relay-yard-sale/
END:VEVENT
END:VCALENDAR