BEGIN:VCALENDAR
VERSION:2.0
PRODID:-//CKDH - ECPv4.6.26//NONSGML v1.0//EN
CALSCALE:GREGORIAN
METHOD:PUBLISH
X-WR-CALNAME:CKDH
X-ORIGINAL-URL:https://ckdh.com
X-WR-CALDESC:Events for CKDH
BEGIN:VEVENT
DTSTART;TZID=UTC+0:20171111T110000
DTEND;TZID=UTC+0:20171111T110000
DTSTAMP:20260419T132432
CREATED:20171107T202852Z
LAST-MODIFIED:20171107T202852Z
UID:1733-1510398000-1510398000@ckdh.com
SUMMARY:Remembrance Day - Amherst
DESCRIPTION:Remembrance Day Ceremonies in Victoria Square at the Cenotaph Saturday at 11am. Laying of Wreath’s follows at First Baptist Church followed by the Vimy Ridge Oak Tree dedication beside Town Hall. A reminder\, this year if you are going to attend the Remembrance Day ceremonies\, after the March-in\, you are asked to gather in Victoria Square. That way we can see our veterans and they can see us. \n
URL:https://ckdh.com/event/remembrance-day-amherst/
END:VEVENT
END:VCALENDAR