BEGIN:VCALENDAR
VERSION:2.0
PRODID:-//CKDH - ECPv4.6.26//NONSGML v1.0//EN
CALSCALE:GREGORIAN
METHOD:PUBLISH
X-WR-CALNAME:CKDH
X-ORIGINAL-URL:https://ckdh.com
X-WR-CALDESC:Events for CKDH
BEGIN:VEVENT
DTSTART;TZID=UTC+0:20171126T170000
DTEND;TZID=UTC+0:20171126T170000
DTSTAMP:20260422T122019
CREATED:20171107T202952Z
LAST-MODIFIED:20171108T155848Z
UID:1735-1511715600-1511715600@ckdh.com
SUMMARY:River Hebert Santa Claus Parade
DESCRIPTION:The River Hebert Santa Claus Parade is Sunday Nov 26. Line up at the River Hebert Baptist Church is at 5. Non-perishable food items will be collected along the parade route for the food bank. Santa will take your letters at the Fire Hall\, where there will be cookies and hot drinks for all. For more information\, call Darrell Fagan at 902-251-2490. \n
URL:https://ckdh.com/event/river-hebert-santa-claus-parade/
END:VEVENT
END:VCALENDAR