BEGIN:VCALENDAR
VERSION:2.0
PRODID:-//CKDH - ECPv4.6.26//NONSGML v1.0//EN
CALSCALE:GREGORIAN
METHOD:PUBLISH
X-WR-CALNAME:CKDH
X-ORIGINAL-URL:https://ckdh.com
X-WR-CALDESC:Events for CKDH
BEGIN:VEVENT
DTSTART;VALUE=DATE:20170226
DTEND;VALUE=DATE:20170227
DTSTAMP:20260424T111940
CREATED:20170216T002232Z
LAST-MODIFIED:20170216T002232Z
UID:190-1488067200-1488153599@ckdh.com
SUMMARY:Roast Turkey Dinner
DESCRIPTION:The Air Force Association on Havelock Street will be serving a Roast Turkey Dinner\, Sun Feb 26 from 4-6. The cost is $13 and take-outs will be available. For more information\, call 902-667-9262. \n
URL:https://ckdh.com/event/roast-turkey-dinner/
END:VEVENT
END:VCALENDAR