BEGIN:VCALENDAR
VERSION:2.0
PRODID:-//CKDH - ECPv4.6.26//NONSGML v1.0//EN
CALSCALE:GREGORIAN
METHOD:PUBLISH
X-WR-CALNAME:CKDH
X-ORIGINAL-URL:https://ckdh.com
X-WR-CALDESC:Events for CKDH
BEGIN:VEVENT
DTSTART;TZID=UTC+0:20170401T080000
DTEND;TZID=UTC+0:20170401T080000
DTSTAMP:20260422T103244
CREATED:20170327T165021Z
LAST-MODIFIED:20170327T165213Z
UID:459-1491033600-1491033600@ckdh.com
SUMMARY:Rotary Breakfast
DESCRIPTION:The Sackville Rotary are serving Breakfast Sat Apr 1 starting at 8 at the Tantramar Veterans Memorial Center. The cost is $4-$8\, with proceeds to support Tantramar Regional High bursaries for graduating students. \n
URL:https://ckdh.com/event/rotary-breakfast/
END:VEVENT
END:VCALENDAR