BEGIN:VCALENDAR
VERSION:2.0
PRODID:-//CKDH - ECPv4.6.26//NONSGML v1.0//EN
CALSCALE:GREGORIAN
METHOD:PUBLISH
X-WR-CALNAME:CKDH
X-ORIGINAL-URL:https://ckdh.com
X-WR-CALDESC:Events for CKDH
BEGIN:VEVENT
DTSTART;TZID=UTC+0:20170408T070000
DTEND;TZID=UTC+0:20170408T110000
DTSTAMP:20260421T222010
CREATED:20170327T163659Z
LAST-MODIFIED:20170327T163659Z
UID:414-1491634800-1491649200@ckdh.com
SUMMARY:Sackville Firefighters Annual Pancake and Maple Syrup Breakfast
DESCRIPTION:Join Sackville Firefighters for their Annual Pancake and Maple Syrup Breakfast\, Sat Apr 8 from 7-11 at the fire hall. The cost is $8 for adults\, $5 for seniors and students\, and free for 3 and under. \n
URL:https://ckdh.com/event/sackville-firefighters-annual-pancake-and-maple-syrup-breakfast/
END:VEVENT
END:VCALENDAR