BEGIN:VCALENDAR
VERSION:2.0
PRODID:-//CKDH - ECPv4.6.26//NONSGML v1.0//EN
CALSCALE:GREGORIAN
METHOD:PUBLISH
X-WR-CALNAME:CKDH
X-ORIGINAL-URL:https://ckdh.com
X-WR-CALDESC:Events for CKDH
BEGIN:VEVENT
DTSTART;TZID=UTC+0:20170506T190000
DTEND;TZID=UTC+0:20170506T190000
DTSTAMP:20260422T122100
CREATED:20170410T185328Z
LAST-MODIFIED:20170420T190237Z
UID:560-1494097200-1494097200@ckdh.com
SUMMARY:Sackville Rotary Club Spring Bash
DESCRIPTION:The Sackville Rotary Club will be holding the Spring Bash on Saturday\, May 6th\, at Tantramar Regional High School . They will have wine & beer tasting from 7:00-9:00pm\, and a live band starting at 9:00pm. Tickets are $40\, and are available from any Rotarian or by calling/texting Jamie Smith at (506) 379-0644\, or jamie@thatjamieguy.ca. \n
URL:https://ckdh.com/event/sackville-rotary-club-spring-bash/
END:VEVENT
END:VCALENDAR